Workbook
Name bicAuto: 'BIC-bdd'!$A$3:$G$14
Name bicMoto: 'BIC-bdd'!$A$18:$C$29
Name bncAuto: 'BNC-bdd'!$A$3:$H$9
Name bncCyclo: 'BNC-bdd'!$A$22:$H$22
Name bncMoto: 'BNC-bdd'!$A$13:$H$19

Sheet Forfait kilométrique BNC
C1: =CONCATENATE("Grille de calcul du forfait kilométrique ",O7,) -> Grille de calcul du forfait kilométrique 2025
C2: Code Général des Impôts, annexe 4 - Article 6 B - Brochure IR 2024 (Nota : Conformément à l’article 2 de l’arrêté du 27 mars 2023 (NOR : ECOE2307260A), ces dispositions s'appliquent à compter de l'imposition des revenus de l'année 2022)
C4: =CONCATENATE("Calculez votre indemnité kilométrique ",O7) -> Calculez votre indemnité kilométrique 2025 | H4: Détail du calcul
H6: TARIF APPLICABLE AUX AUTOMOBILES
C7: Type de forfait : | E7: AUTO | H7: Puissance administrative | I7: Jusqu'à 5 000 km | J7: De 5 001 à 20 000 km | K7: Au-delà de 20 000 km | N7: AF | O7: 2025
C8: Puissance fiscale * : | E8: 7 | H8: 3 CV et moins | I8: d * 0,529 | J8: (d * 0,316) + 1065 | K8: d * 0,370
C9: Kilométrage parcouru : | E9: 12000 | H9: 4 CV | I9: d * 0,606 | J9: (d * 0,340) + 1330 | K9: d * 0,407 | N9: type de forfait | O9: Puissance fiscale | P9: Véhicule elec
C10: S'agit-il d'un véhicule éléctrique : * | E10: OUI | H10: 5 CV | I10: d * 0,636 | J10: (d * 0,357) + 1395 | K10: d * 0,427 | N10: AUTO | O10: 1 | P10: NON
H11: 6 CV | I11: d * 0,665 | J11: (d * 0,374) + 1457 | K11: d * 0,447 | N11: MOTO > 50 CM3 | O11: 2 | P11: OUI
C12: =IF(E10=P10,N18,N18*1.2) -> 7491.6 | H12: 7 CV et plus | I12: d * 0,697 | J12: (d * 0,394) + 1515 | K12: d * 0,470 | N12: CYCLO < 50 CM3 | O12: 3
H13: d représente la distance parcourue en kilomètres | O13: 4
O14: 5
H15: TARIF APPLICABLE AUX MOTOCYCLETTES | O15: 6
C16: * la puissance fiscale est plafonnée à 7 chevaux fiscaux. Si la puissance de votre véhicule est supérieure, inscrivez 7. | H16: Puissance administrative | I16: Jusqu'à 3 000 km | J16: De 3 001 à 6 000 km | K16: Au-delà de 6 000 km | O16: 7
H17: 1 ou 2 CV | I17: d * 0,395 | J17: (d * 0,099) + 891 | K17: d * 0,248
C18: * Pour les véhicules électriques, le montant des frais de déplacement calculés est majoré de 20 %. | H18: 3, 4 ou 5 CV | I18: d * 0,468 | J18: (d * 0,082) + 1158 | K18: d * 0,275 | N18: =IF(OR(ISBLANK(E7),ISBLANK(E8),ISBLANK(E9)),"Tous les champs doivent être renseignés",IF(E7=N10,IF(E9<=5000,VLOOKUP(E8,bncAuto,3,FALSE),IF(E9<=20000,VLOOKUP(E8,bncAuto,6,FALSE),VLOOKUP(E8,bncAuto,8,FALSE))),IF(E7=N11,IF(E9<=3000,VLOOKUP(E8,bncMoto,3,FALSE),IF(E9<=6000,VLOOKUP(E8,bncMoto,6,FALSE),VLOOKUP(E8,bncMoto,8,FALSE))),IF(E7=N12,IF(E9<=3000,'BNC-bdd'!C22,IF(E9<=6000,'BNC-bdd'!F22,'BNC-bdd'!H22)))))) -> 6243
H19: plus de 5 CV | I19: d * 0,606 | J19: (d * 0,079) + 1583 | K19: d * 0,343
H20: d représente la distance parcourue en kilomètres
H22: TARIF APPLICABLE AUX CYCLOMOTEURS
H23: Jusqu'à 3 000 km | I23: De 3 001 à 6 000 km | K23: Au-delà de 6 000 km
H24: d * 0,315 | I24: (d * 0,079) + 711 | K24: d * 0,198
H25: d représente la distance parcourue en kilomètres

Sheet BNC-bdd
A1: BNC - AUTO
A2: Puissance fiscale | B2: < 5000 km | D2: de 5001 à 20000 km | G2: > 20000 km
A3: 1 | B3: 0.529 | C3: ='Forfait kilométrique BNC'!$E$9*B3 -> 6348 | D3: 0.316 | E3: 1065 | F3: ='Forfait kilométrique BNC'!$E$9*D3+E3 -> 4857 | G3: 0.37 | H3: ='Forfait kilométrique BNC'!$E$9*'BNC-bdd'!G3 -> 4440
A4: 2 | B4: 0.529 | C4: ='Forfait kilométrique BNC'!$E$9*B4 -> 6348 | D4: 0.316 | E4: 1065 | F4: ='Forfait kilométrique BNC'!$E$9*D4+E4 -> 4857 | G4: 0.37 | H4: ='Forfait kilométrique BNC'!$E$9*'BNC-bdd'!G4 -> 4440
A5: 3 | B5: 0.529 | C5: ='Forfait kilométrique BNC'!$E$9*B5 -> 6348 | D5: 0.316 | E5: 1065 | F5: ='Forfait kilométrique BNC'!$E$9*D5+E5 -> 4857 | G5: 0.37 | H5: ='Forfait kilométrique BNC'!$E$9*'BNC-bdd'!G5 -> 4440 | K5: à modifier chaque année
A6: 4 | B6: 0.606 | C6: ='Forfait kilométrique BNC'!$E$9*B6 -> 7272 | D6: 0.34 | E6: 1330 | F6: ='Forfait kilométrique BNC'!$E$9*D6+E6 -> 5410 | G6: 0.407 | H6: ='Forfait kilométrique BNC'!$E$9*'BNC-bdd'!G6 -> 4884
A7: 5 | B7: 0.636 | C7: ='Forfait kilométrique BNC'!$E$9*B7 -> 7632 | D7: 0.357 | E7: 1395 | F7: ='Forfait kilométrique BNC'!$E$9*D7+E7 -> 5679 | G7: 0.427 | H7: ='Forfait kilométrique BNC'!$E$9*'BNC-bdd'!G7 -> 5124
A8: 6 | B8: 0.665 | C8: ='Forfait kilométrique BNC'!$E$9*B8 -> 7980 | D8: 0.374 | E8: 1457 | F8: ='Forfait kilométrique BNC'!$E$9*D8+E8 -> 5945 | G8: 0.447 | H8: ='Forfait kilométrique BNC'!$E$9*'BNC-bdd'!G8 -> 5364
A9: 7 | B9: 0.697 | C9: ='Forfait kilométrique BNC'!$E$9*B9 -> 8364 | D9: 0.394 | E9: 1515 | F9: ='Forfait kilométrique BNC'!$E$9*D9+E9 -> 6243 | G9: 0.47 | H9: ='Forfait kilométrique BNC'!$E$9*'BNC-bdd'!G9 -> 5640
A11: BNC - MOTO
A12: Puissance fiscale | B12: < 3000 km | D12: de 3001 à 6000 km | G12: > 6000 km
A13: 1 | B13: 0.395 | C13: ='Forfait kilométrique BNC'!$E$9*B13 -> 4740 | D13: 0.099 | E13: 891 | F13: ='Forfait kilométrique BNC'!$E$9*D13+E13 -> 2079 | G13: 0.248 | H13: ='Forfait kilométrique BNC'!$E$9*G13 -> 2976
A14: 2 | B14: 0.395 | C14: ='Forfait kilométrique BNC'!$E$9*B14 -> 4740 | D14: 0.099 | E14: 891 | F14: ='Forfait kilométrique BNC'!$E$9*D14+E14 -> 2079 | G14: 0.248 | H14: ='Forfait kilométrique BNC'!$E$9*G14 -> 2976
A15: 3 | B15: 0.468 | C15: ='Forfait kilométrique BNC'!$E$9*B15 -> 5616 | D15: 0.082 | E15: 1158 | F15: ='Forfait kilométrique BNC'!$E$9*D15+E15 -> 2142 | G15: 0.275 | H15: ='Forfait kilométrique BNC'!$E$9*G15 -> 3300
A16: 4 | B16: 0.468 | C16: ='Forfait kilométrique BNC'!$E$9*B16 -> 5616 | D16: 0.082 | E16: 1158 | F16: ='Forfait kilométrique BNC'!$E$9*D16+E16 -> 2142 | G16: 0.275 | H16: ='Forfait kilométrique BNC'!$E$9*G16 -> 3300
A17: 5 | B17: 0.468 | C17: ='Forfait kilométrique BNC'!$E$9*B17 -> 5616 | D17: 0.082 | E17: 1158 | F17: ='Forfait kilométrique BNC'!$E$9*D17+E17 -> 2142 | G17: 0.275 | H17: ='Forfait kilométrique BNC'!$E$9*G17 -> 3300
A18: 6 | B18: 0.606 | C18: ='Forfait kilométrique BNC'!$E$9*B18 -> 7272 | D18: 0.079 | E18: 1583 | F18: ='Forfait kilométrique BNC'!$E$9*D18+E18 -> 2531 | G18: 0.343 | H18: ='Forfait kilométrique BNC'!$E$9*G18 -> 4116
A19: 7 | B19: 0.606 | C19: ='Forfait kilométrique BNC'!$E$9*B19 -> 7272 | D19: 0.079 | E19: 1583 | F19: ='Forfait kilométrique BNC'!$E$9*D19+E19 -> 2531 | G19: 0.343 | H19: ='Forfait kilométrique BNC'!$E$9*G19 -> 4116
A21: Puissance fiscale | B21: < 3000 km | D21: de 3001 à 6000 km | G21: > 6000 km
A22: 1 | B22: 0.315 | C22: ='Forfait kilométrique BNC'!$E$9*B22 -> 3780 | D22: 0.079 | E22: 711 | F22: ='Forfait kilométrique BNC'!$E$9*D22+E22 -> 1659 | G22: 0.198 | H22: ='Forfait kilométrique BNC'!$E$9*G22 -> 2376

Sheet Forfait carburant
A1: =CONCATENATE("BAREME - RSA - BA - BIC - BNC (sous conditions) - Frais de carburant en euro au kilomètre - Barèmes applicables pour l'année ",N2) -> BAREME - RSA - BA - BIC - BNC (sous conditions) - Frais de carburant en euro au kilomètre - Barèmes applicables pour l'année 2025
A2: BOI-BAREME-000003-1/02/2026 | N2: 2025
A4: =CONCATENATE("Calculez votre forfait carburant ",N2) -> Calculez votre forfait carburant 2025 | F4: Détail du calcul | M4: type de forfait | N4: Puissance fiscale auto | P4: Carburant
M5: AUTO | N5: 1 CV ou INF à 50 CC | O5: =IF(C9=N5,1,IF(C9=N6,2,IF(C9=N16,12,C9))) -> 8 | P5: Gazole
M6: DEUX ROUES | N6: 2 CV ou INF à 125 CC | P6: Super sans plomb
A7: Type de forfait : | C7: AUTO | N7: 3 | P7: GPL
A8: Carburant * | C8: Super sans plomb | N8: 4
A9: Puissance fiscale * : | C9: 8 | N9: 5
A10: Kilométrage parcouru : | C10: 5000 | N10: 6
N11: 7
A12: =M22 -> 825 | N12: 8
N13: 9
N14: 10
N15: 11
A16: * Le type de carburant n'est pas à renseigner pour le forfait carburant "deux roues" | N16: 12
A18: * la puissance fiscale est plafonnée à 12 chevaux fiscaux, si la puissance de votre véhicule est supérieure, sélectionnez "12"
M22: =IF(OR(ISBLANK(C7),ISBLANK(O5),ISBLANK(C10)), "Tous les champs doivent être renseignés", IF(C7=M5,IF(C8=P5,VLOOKUP(O5,bicAuto,3,FALSE),IF(C8=P6,VLOOKUP(O5,bicAuto,5,FALSE),IF(C8=P7,VLOOKUP(O5,bicAuto,7)))), IF(C7=M6,VLOOKUP(O5,bicMoto,3,FALSE)))) -> 825

Sheet BIC-bdd
A1: BIC - AUTO
A2: Puissance fiscale | B2: GAZOLE | D2: SSP | F2: GPL | K2: ò Compléter le barème ici ò
A3: 1 | B3: =L7 -> 0.089 | C3: =B3*'Forfait carburant'!$C$10 -> 445 | D3: =M7 -> 0.113 | E3: =D3*'Forfait carburant'!$C$10 -> 565 | F3: =N7 -> 0.072 | G3: =F3*'Forfait carburant'!$C$10 -> 360
A4: 2 | B4: =L7 -> 0.089 | C4: =B4*'Forfait carburant'!$C$10 -> 445 | D4: =M7 -> 0.113 | E4: =D4*'Forfait carburant'!$C$10 -> 565 | F4: =N7 -> 0.072 | G4: =F4*'Forfait carburant'!$C$10 -> 360
A5: 3 | B5: =L7 -> 0.089 | C5: =B5*'Forfait carburant'!$C$10 -> 445 | D5: =M7 -> 0.113 | E5: =D5*'Forfait carburant'!$C$10 -> 565 | F5: =N7 -> 0.072 | G5: =F5*'Forfait carburant'!$C$10 -> 360 | L5: Véhicule de tourisme
A6: 4 | B6: =L7 -> 0.089 | C6: =B6*'Forfait carburant'!$C$10 -> 445 | D6: =M7 -> 0.113 | E6: =D6*'Forfait carburant'!$C$10 -> 565 | F6: =N7 -> 0.072 | G6: =F6*'Forfait carburant'!$C$10 -> 360 | K6: Puissance | L6: Gazole | M6: SSP | N6: GPL
A7: 5 | B7: =L8 -> 0.11 | C7: =B7*'Forfait carburant'!$C$10 -> 550 | D7: =M8 -> 0.139 | E7: =D7*'Forfait carburant'!$C$10 -> 695 | F7: =N8 -> 0.089 | G7: =F7*'Forfait carburant'!$C$10 -> 445 | K7: 3 à 4 cv | L7: 0.089 | M7: 0.113 | N7: 0.072
A8: 6 | B8: =L8 -> 0.11 | C8: =B8*'Forfait carburant'!$C$10 -> 550 | D8: =M8 -> 0.139 | E8: =D8*'Forfait carburant'!$C$10 -> 695 | F8: =N8 -> 0.089 | G8: =F8*'Forfait carburant'!$C$10 -> 445 | K8: 5 à 7 cv | L8: 0.11 | M8: 0.139 | N8: 0.089
A9: 7 | B9: =L8 -> 0.11 | C9: =B9*'Forfait carburant'!$C$10 -> 550 | D9: =M8 -> 0.139 | E9: =D9*'Forfait carburant'!$C$10 -> 695 | F9: =N8 -> 0.089 | G9: =F9*'Forfait carburant'!$C$10 -> 445 | K9: 8 et 9 cv | L9: 0.131 | M9: 0.165 | N9: 0.106
A10: 8 | B10: =L9 -> 0.131 | C10: =B10*'Forfait carburant'!$C$10 -> 655 | D10: =M9 -> 0.165 | E10: =D10*'Forfait carburant'!$C$10 -> 825 | F10: =N9 -> 0.106 | G10: =F10*'Forfait carburant'!$C$10 -> 530 | K10: 10 et 11 cv | L10: 0.148 | M10: 0.187 | N10: 0.12
A11: 9 | B11: =L9 -> 0.131 | C11: =B11*'Forfait carburant'!$C$10 -> 655 | D11: =M9 -> 0.165 | E11: =D11*'Forfait carburant'!$C$10 -> 825 | F11: =N9 -> 0.106 | G11: =F11*'Forfait carburant'!$C$10 -> 530 | K11: 12 cv et plus | L11: 0.165 | M11: 0.208 | N11: 0.133
A12: 10 | B12: =L10 -> 0.148 | C12: =B12*'Forfait carburant'!$C$10 -> 740 | D12: =M10 -> 0.187 | E12: =D12*'Forfait carburant'!$C$10 -> 935 | F12: =N10 -> 0.12 | G12: =F12*'Forfait carburant'!$C$10 -> 600
A13: 11 | B13: =L10 -> 0.148 | C13: =B13*'Forfait carburant'!$C$10 -> 740 | D13: =M10 -> 0.187 | E13: =D13*'Forfait carburant'!$C$10 -> 935 | F13: =N10 -> 0.12 | G13: =F13*'Forfait carburant'!$C$10 -> 600
A14: 12 | B14: =L11 -> 0.165 | C14: =B14*'Forfait carburant'!$C$10 -> 825 | D14: =M11 -> 0.208 | E14: =D14*'Forfait carburant'!$C$10 -> 1040 | F14: =N11 -> 0.133 | G14: =F14*'Forfait carburant'!$C$10 -> 665 | L14: 2 roues motorisées
L15: Puissance | M15: Frais au km
L16: inf à 50 cc | M16: 0.037
A17: BIC - MOTO | L17: 50 cc à 125 cc | M17: 0.074
A18: 1 | B18: =M16 -> 0.037 | C18: ='Forfait carburant'!$C$10*B18 -> 185 | L18: 3, 4 et 5 cv | M18: 0.095
A19: 2 | B19: =M17 -> 0.074 | C19: ='Forfait carburant'!$C$10*B19 -> 370 | L19: sup à 5 cv | M19: 0.131
A20: 3 | B20: =M18 -> 0.095 | C20: ='Forfait carburant'!$C$10*B20 -> 475
A21: 4 | B21: =M18 -> 0.095 | C21: ='Forfait carburant'!$C$10*B21 -> 475
A22: 5 | B22: =M18 -> 0.095 | C22: ='Forfait carburant'!$C$10*B22 -> 475
A23: 6 | B23: =M19 -> 0.131 | C23: ='Forfait carburant'!$C$10*B23 -> 655
A24: 7 | B24: =M19 -> 0.131 | C24: ='Forfait carburant'!$C$10*B24 -> 655
A25: 8 | B25: =M19 -> 0.131 | C25: ='Forfait carburant'!$C$10*B25 -> 655
A26: 9 | B26: =M19 -> 0.131 | C26: ='Forfait carburant'!$C$10*B26 -> 655
A27: 10 | B27: =M19 -> 0.131 | C27: ='Forfait carburant'!$C$10*B27 -> 655
A28: 11 | B28: =M19 -> 0.131 | C28: ='Forfait carburant'!$C$10*B28 -> 655
A29: 12 | B29: =M19 -> 0.131 | C29: ='Forfait carburant'!$C$10*B29 -> 655
